BEGIN:VCALENDAR
PRODID:-//Red Pacto Global Argentina //NONSGML Events //EN
VERSION:2.0
BEGIN:VEVENT
DTSTAMP:20230824T012728Z
STATUS:CONFIRMED
UID:13454
DTSTART:20221115T103000
DTEND:20221115T123000
LOCATION:Virtual
DESCRIPTION:Encuentro cerrado para empresas participantes.
SUMMARY:Cuarto encuentro del Grupo de Trabajo Sostenibilidad en la Cadena de Valor
TRANSP:OPAQUE
BEGIN:VALARM
ACTION:DISPLAY
DESCRIPTION:Cuarto encuentro del Grupo de Trabajo Sostenibilidad en la Cadena de Valor
END:VALARM
END:VEVENT
END:VCALENDAR
