BEGIN:VCALENDAR
PRODID:-//Red Pacto Global Argentina //NONSGML Events //EN
VERSION:2.0
BEGIN:VEVENT
DTSTAMP:20230824T013409Z
STATUS:CONFIRMED
UID:13518
DTSTART:20220916T110000
DTEND:20220916T120000
LOCATION:Virtual
DESCRIPTION:Sesión 1: Lanzamiento del nuevo Comunicado de Progreso que llegará en 2023, Presentación de la nueva política el cuestionario y declaración del CEO
SUMMARY:Sesión 1 Formación en Nueva Comunicación de Progreso
TRANSP:OPAQUE
BEGIN:VALARM
ACTION:DISPLAY
DESCRIPTION:Sesión 1 Formación en Nueva Comunicación de Progreso
END:VALARM
END:VEVENT
END:VCALENDAR
