BEGIN:VCALENDAR
PRODID:-//Red Pacto Global Argentina //NONSGML Events //EN
VERSION:2.0
BEGIN:VEVENT
DTSTAMP:20230824T012958Z
STATUS:CONFIRMED
UID:13520
DTSTART:20220923T110000
DTEND:20220923T120000
LOCATION:Virtual
DESCRIPTION:Sesión 2: Capítulo de Gobernanza y Anticorrupción<br />

SUMMARY:Sesión 2 Formación en Nueva Comunicación de Progreso
TRANSP:OPAQUE
BEGIN:VALARM
ACTION:DISPLAY
DESCRIPTION:Sesión 2 Formación en Nueva Comunicación de Progreso
END:VALARM
END:VEVENT
END:VCALENDAR
