BEGIN:VCALENDAR
PRODID:-//Red Pacto Global Argentina //NONSGML Events //EN
VERSION:2.0
BEGIN:VEVENT
DTSTAMP:20230824T013325Z
STATUS:CONFIRMED
UID:13524
DTSTART:20221014T110000
DTEND:20221014T120000
LOCATION:Virtual
DESCRIPTION:Sesión 4: Capítulo de Medio Ambiente
SUMMARY:Sesión 4 Formación en Nueva Comunicación de Progreso
TRANSP:OPAQUE
BEGIN:VALARM
ACTION:DISPLAY
DESCRIPTION:Sesión 4 Formación en Nueva Comunicación de Progreso
END:VALARM
END:VEVENT
END:VCALENDAR
