BEGIN:VCALENDAR
PRODID:-//Red Pacto Global Argentina //NONSGML Events //EN
VERSION:2.0
BEGIN:VEVENT
DTSTAMP:20230824T013227Z
STATUS:CONFIRMED
UID:13881
DTSTART:20221018T100000
DTEND:20221018T120000
LOCATION:Virtual
DESCRIPTION:De la responsabilidad social empresaria a la sostenibilidad corporativa<br />

SUMMARY:Primera sesión XVI Cátedra del Pacto Global
TRANSP:OPAQUE
BEGIN:VALARM
ACTION:DISPLAY
DESCRIPTION:Primera sesión XVI Cátedra del Pacto Global
END:VALARM
END:VEVENT
END:VCALENDAR
