BEGIN:VCALENDAR
PRODID:-//Red Pacto Global Argentina //NONSGML Events //EN
VERSION:2.0
BEGIN:VEVENT
DTSTAMP:20230824T013234Z
STATUS:CONFIRMED
UID:13884
DTSTART:20221020T100000
DTEND:20221020T120000
LOCATION:Virtual
DESCRIPTION:¿Cómo se diseña una estrategia de sostenibilidad corporativa?: la matriz de materialidad
SUMMARY:Segunda sesión XVI Cátedra del Pacto Global
TRANSP:OPAQUE
BEGIN:VALARM
ACTION:DISPLAY
DESCRIPTION:Segunda sesión XVI Cátedra del Pacto Global
END:VALARM
END:VEVENT
END:VCALENDAR
