BEGIN:VCALENDAR
PRODID:-//Red Pacto Global Argentina //NONSGML Events //EN
VERSION:2.0
BEGIN:VEVENT
DTSTAMP:20230824T012950Z
STATUS:CONFIRMED
UID:13888
DTSTART:20221025T100000
DTEND:20221025T120000
LOCATION:Virtual
DESCRIPTION:Integridad sostenible: creación de valor desde la cultura de la integridad
SUMMARY:Tercera sesión XVI Cátedra del Pacto Global
TRANSP:OPAQUE
BEGIN:VALARM
ACTION:DISPLAY
DESCRIPTION:Tercera sesión XVI Cátedra del Pacto Global
END:VALARM
END:VEVENT
END:VCALENDAR
