BEGIN:VCALENDAR
PRODID:-//Red Pacto Global Argentina //NONSGML Events //EN
VERSION:2.0
BEGIN:VEVENT
DTSTAMP:20230824T013340Z
STATUS:CONFIRMED
UID:13890
DTSTART:20221027T100000
DTEND:20221027T120000
LOCATION:Virtual
DESCRIPTION:Empresa y Derechos Humanos
SUMMARY:Cuarta sesión XVI Cátedra del Pacto Global
TRANSP:OPAQUE
BEGIN:VALARM
ACTION:DISPLAY
DESCRIPTION:Cuarta sesión XVI Cátedra del Pacto Global
END:VALARM
END:VEVENT
END:VCALENDAR
