BEGIN:VCALENDAR
PRODID:-//Red Pacto Global Argentina //NONSGML Events //EN
VERSION:2.0
BEGIN:VEVENT
DTSTAMP:20230824T013420Z
STATUS:CONFIRMED
UID:13892
DTSTART:20221101T100000
DTEND:20221101T120000
LOCATION:Virtual
DESCRIPTION:La perspectiva de género en la Empresa.
SUMMARY:Quinta sesión XVI Cátedra del Pacto Global
TRANSP:OPAQUE
BEGIN:VALARM
ACTION:DISPLAY
DESCRIPTION:Quinta sesión XVI Cátedra del Pacto Global
END:VALARM
END:VEVENT
END:VCALENDAR
