BEGIN:VCALENDAR
PRODID:-//Red Pacto Global Argentina //NONSGML Events //EN
VERSION:2.0
BEGIN:VEVENT
DTSTAMP:20230824T013420Z
STATUS:CONFIRMED
UID:13894
DTSTART:20221103T100000
DTEND:20221103T120000
LOCATION:Virtual
DESCRIPTION:Gestión de buenas prácticas laborales
SUMMARY:Sexta sesión XVI Cátedra del Pacto
TRANSP:OPAQUE
BEGIN:VALARM
ACTION:DISPLAY
DESCRIPTION:Sexta sesión XVI Cátedra del Pacto
END:VALARM
END:VEVENT
END:VCALENDAR
