BEGIN:VCALENDAR
PRODID:-//Red Pacto Global Argentina //NONSGML Events //EN
VERSION:2.0
BEGIN:VEVENT
DTSTAMP:20230824T012708Z
STATUS:CONFIRMED
UID:13898
DTSTART:20221108T100000
DTEND:20221108T120000
LOCATION:Virtual
DESCRIPTION:
SUMMARY:Séptima sesión XVI Cátedra del Pacto Global
TRANSP:OPAQUE
BEGIN:VALARM
ACTION:DISPLAY
DESCRIPTION:Séptima sesión XVI Cátedra del Pacto Global
END:VALARM
END:VEVENT
END:VCALENDAR
