BEGIN:VCALENDAR
PRODID:-//Red Pacto Global Argentina //NONSGML Events //EN
VERSION:2.0
BEGIN:VEVENT
DTSTAMP:20230824T012852Z
STATUS:CONFIRMED
UID:13900
DTSTART:20221110T100000
DTEND:20221110T120000
LOCATION:Virtual
DESCRIPTION:Cambio climático y la contribución de las empresas
SUMMARY:Octava sesión XVI Cátedra del Pacto Global
TRANSP:OPAQUE
BEGIN:VALARM
ACTION:DISPLAY
DESCRIPTION:Octava sesión XVI Cátedra del Pacto Global
END:VALARM
END:VEVENT
END:VCALENDAR
