BEGIN:VCALENDAR
PRODID:-//Red Pacto Global Argentina //NONSGML Events //EN
VERSION:2.0
BEGIN:VEVENT
DTSTAMP:20230824T013415Z
STATUS:CONFIRMED
UID:13902
DTSTART:20221115T100000
DTEND:20221115T120000
LOCATION:Virtual
DESCRIPTION:Alinear la estrategia de sostenibilidad a los Objetivos de Desarrollo Sostenible 
SUMMARY:Novena sesión XVI Cátedra del Pacto Global
TRANSP:OPAQUE
BEGIN:VALARM
ACTION:DISPLAY
DESCRIPTION:Novena sesión XVI Cátedra del Pacto Global
END:VALARM
END:VEVENT
END:VCALENDAR
