BEGIN:VCALENDAR
PRODID:-//Red Pacto Global Argentina //NONSGML Events //EN
VERSION:2.0
BEGIN:VEVENT
DTSTAMP:20230824T012805Z
STATUS:CONFIRMED
UID:13904
DTSTART:20221117T100000
DTEND:20221117T120000
LOCATION:Virtual
DESCRIPTION:Proceso de elaboración de Reportes de Sustentabilidad y Comunicación de Progreso 
SUMMARY:Décima sesión XVI Cátedra del Pacto Global
TRANSP:OPAQUE
BEGIN:VALARM
ACTION:DISPLAY
DESCRIPTION:Décima sesión XVI Cátedra del Pacto Global
END:VALARM
END:VEVENT
END:VCALENDAR
