BEGIN:VCALENDAR
PRODID:-//Red Pacto Global Argentina //NONSGML Events //EN
VERSION:2.0
BEGIN:VEVENT
DTSTAMP:20230824T013034Z
STATUS:CONFIRMED
UID:13906
DTSTART:20221020T113000
DTEND:20221020T130000
LOCATION:Virtual
DESCRIPTION:
SUMMARY:Webinario Abierto «Oportunidades y Desafíos de las Regulaciones Europeas sobre Debida Diligencia en Derechos Humanos en las Cadenas de Suministros»
TRANSP:OPAQUE
BEGIN:VALARM
ACTION:DISPLAY
DESCRIPTION:Webinario Abierto «Oportunidades y Desafíos de las Regulaciones Europeas sobre Debida Diligencia en Derechos Humanos en las Cadenas de Suministros»
END:VALARM
END:VEVENT
END:VCALENDAR
