BEGIN:VCALENDAR
PRODID:-//Red Pacto Global Argentina //NONSGML Events //EN
VERSION:2.0
BEGIN:VEVENT
DTSTAMP:20230824T012915Z
STATUS:CONFIRMED
UID:13999
DTSTART:20221103T160000
DTEND:20221103T173000
LOCATION:Virtual
DESCRIPTION:En enero de 2023 entrará en vigencia la nueva política de comunicación de progreso y desde la Red Argentina ofreceremos  el próximo 3 de Noviembre de 16 a 17.30 hs, un taller virtual de 90 minutos de duración destinado a empresas PyMES participantes de la iniciativa.
SUMMARY:Primer taller COP para PyMEs
TRANSP:OPAQUE
BEGIN:VALARM
ACTION:DISPLAY
DESCRIPTION:Primer taller COP para PyMEs
END:VALARM
END:VEVENT
END:VCALENDAR
