BEGIN:VCALENDAR
PRODID:-//Red Pacto Global Argentina //NONSGML Events //EN
VERSION:2.0
BEGIN:VEVENT
DTSTAMP:20230824T013126Z
STATUS:CONFIRMED
UID:14053
DTSTART:20221116T090000
DTEND:20221116T130000
LOCATION:
DESCRIPTION:
SUMMARY:TALLER FORMADOR DE FORMADORES SOBRE LA NUEVA COMUNICACIÓN DE PROGRESO
TRANSP:OPAQUE
BEGIN:VALARM
ACTION:DISPLAY
DESCRIPTION:TALLER FORMADOR DE FORMADORES SOBRE LA NUEVA COMUNICACIÓN DE PROGRESO
END:VALARM
END:VEVENT
END:VCALENDAR
