BEGIN:VCALENDAR
PRODID:-//Red Pacto Global Argentina //NONSGML Events //EN
VERSION:2.0
BEGIN:VEVENT
DTSTAMP:20230824T013125Z
STATUS:CONFIRMED
UID:14125
DTSTART:20221111T100000
DTEND:20221111T113000
LOCATION:
DESCRIPTION:
SUMMARY:TALLER SOBRE LA NUEVA COMUNICACIÓN DE PROGRESO PARA GRANDES EMPRESAS
TRANSP:OPAQUE
BEGIN:VALARM
ACTION:DISPLAY
DESCRIPTION:TALLER SOBRE LA NUEVA COMUNICACIÓN DE PROGRESO PARA GRANDES EMPRESAS
END:VALARM
END:VEVENT
END:VCALENDAR
