BEGIN:VCALENDAR
PRODID:-//Red Pacto Global Argentina //NONSGML Events //EN
VERSION:2.0
BEGIN:VEVENT
DTSTAMP:20230824T013215Z
STATUS:CONFIRMED
UID:14166
DTSTART:20221114T150000
DTEND:20221114T160000
LOCATION:
DESCRIPTION:
SUMMARY:Conversaciones para la elaboración de una Línea de Base de Empresas y DDHH
TRANSP:OPAQUE
BEGIN:VALARM
ACTION:DISPLAY
DESCRIPTION:Conversaciones para la elaboración de una Línea de Base de Empresas y DDHH
END:VALARM
END:VEVENT
END:VCALENDAR
