BEGIN:VCALENDAR
PRODID:-//Red Pacto Global Argentina //NONSGML Events //EN
VERSION:2.0
BEGIN:VEVENT
DTSTAMP:20230824T012952Z
STATUS:CONFIRMED
UID:14176
DTSTART:20221115T113000
DTEND:20221115T123000
LOCATION:
DESCRIPTION:
SUMMARY:Lanzamiento regional del Programa Acelerador de Empresas y Derechos Humanos
TRANSP:OPAQUE
BEGIN:VALARM
ACTION:DISPLAY
DESCRIPTION:Lanzamiento regional del Programa Acelerador de Empresas y Derechos Humanos
END:VALARM
END:VEVENT
END:VCALENDAR
