BEGIN:VCALENDAR
PRODID:-//Red Pacto Global Argentina //NONSGML Events //EN
VERSION:2.0
BEGIN:VEVENT
DTSTAMP:20230824T012919Z
STATUS:CONFIRMED
UID:14194
DTSTART:20221124T110000
DTEND:20221124T123000
LOCATION:
DESCRIPTION:
SUMMARY:Presentación del Registro de Integridad y Transparencia para Empresas y Entidades (RITE)
TRANSP:OPAQUE
BEGIN:VALARM
ACTION:DISPLAY
DESCRIPTION:Presentación del Registro de Integridad y Transparencia para Empresas y Entidades (RITE)
END:VALARM
END:VEVENT
END:VCALENDAR
