BEGIN:VCALENDAR
PRODID:-//Red Pacto Global Argentina //NONSGML Events //EN
VERSION:2.0
BEGIN:VEVENT
DTSTAMP:20230824T013311Z
STATUS:CONFIRMED
UID:14310
DTSTART:20221207T133000
DTEND:20221207T143000
LOCATION:Virtual
DESCRIPTION:En el marco de la conmemoración de los diez años de la adopción de los Derechos del Niño y Principios Empresariales, UNICEF, Deloitte y las Redes del Pacto Global de las Naciones Unidas en América Latina y el Caribe le invitan a la presentación del informe regional ¿Qué están haciendo las empresas por la niñez y adolescencia?, producto de los resultados obtenidos del autodiagnóstico empresarial realizado por Deloitte en 13 países de la región. 
SUMMARY:Presentación Informe Regional ¿Qué están haciendo las empresas por la niñez y adolescencia?
TRANSP:OPAQUE
BEGIN:VALARM
ACTION:DISPLAY
DESCRIPTION:Presentación Informe Regional ¿Qué están haciendo las empresas por la niñez y adolescencia?
END:VALARM
END:VEVENT
END:VCALENDAR
