BEGIN:VCALENDAR
PRODID:-//Red Pacto Global Argentina //NONSGML Events //EN
VERSION:2.0
BEGIN:VEVENT
DTSTAMP:20230824T012826Z
STATUS:CONFIRMED
UID:14314
DTSTART:20221201T100000
DTEND:20221201T110000
LOCATION:Virtual
DESCRIPTION:Taller sobre la Comunicación de Involucramiento<br />
Destinado a organizaciones NO empresariales de la Red Argentina del Pacto Global
SUMMARY:1° Taller COE
TRANSP:OPAQUE
BEGIN:VALARM
ACTION:DISPLAY
DESCRIPTION:1° Taller COE
END:VALARM
END:VEVENT
END:VCALENDAR
