BEGIN:VCALENDAR
PRODID:-//Red Pacto Global Argentina //NONSGML Events //EN
VERSION:2.0
BEGIN:VEVENT
DTSTAMP:20230824T012730Z
STATUS:CONFIRMED
UID:14341
DTSTART:20221214T143000
DTEND:20221214T153000
LOCATION:Virtual
DESCRIPTION:En el presente encuentro se repasarán las principales actuaciones desarrolladas durante el 2022 por los grupos de trabajo del Pacto Global para liderar proyectos contra el cambio climático. 
SUMMARY:Huella de carbono: La importancia en la estrategia de sostenibilidad de las empresas Argentinas
TRANSP:OPAQUE
BEGIN:VALARM
ACTION:DISPLAY
DESCRIPTION:Huella de carbono: La importancia en la estrategia de sostenibilidad de las empresas Argentinas
END:VALARM
END:VEVENT
END:VCALENDAR
