BEGIN:VCALENDAR
PRODID:-//Red Pacto Global Argentina //NONSGML Events //EN
VERSION:2.0
BEGIN:VEVENT
DTSTAMP:20230824T012417Z
STATUS:CONFIRMED
UID:14344
DTSTART:20221215T110000
DTEND:20221215T123000
LOCATION:Virtual
DESCRIPTION:En breve más información y link de inscripción
SUMMARY:Evento de reconocimiento: Pasaporte a la integridad
TRANSP:OPAQUE
BEGIN:VALARM
ACTION:DISPLAY
DESCRIPTION:Evento de reconocimiento: Pasaporte a la integridad
END:VALARM
END:VEVENT
END:VCALENDAR
