BEGIN:VCALENDAR
PRODID:-//Red Pacto Global Argentina //NONSGML Events //EN
VERSION:2.0
BEGIN:VEVENT
DTSTAMP:20230824T012725Z
STATUS:CONFIRMED
UID:14809
DTSTART:20230314T113000
DTEND:20230314T130000
LOCATION:Virtual
DESCRIPTION:En esta sesión informativa, el Pacto Global de Naciones Unidas dará a conocer detalles sobre la nueva política internacional de reporte de sostenibilidad, la cual entra en vigencia en 2023. Como actor clave del ecosistema de reporte, invitamos a representantes de la academia, gremios y cámaras empresariales, y consultoras especializadas a conocer los cambios introducidos con el objetivo de aumentar la transparencia, comparabilidad y efectividad de la gestión empresarial
SUMMARY:Presentación de la nueva política de reporte del Pacto Global de Naciones Unidas
TRANSP:OPAQUE
BEGIN:VALARM
ACTION:DISPLAY
DESCRIPTION:Presentación de la nueva política de reporte del Pacto Global de Naciones Unidas
END:VALARM
END:VEVENT
END:VCALENDAR
