BEGIN:VCALENDAR
PRODID:-//Red Pacto Global Argentina //NONSGML Events //EN
VERSION:2.0
BEGIN:VEVENT
DTSTAMP:20230824T013308Z
STATUS:CONFIRMED
UID:14813
DTSTART:20230310T100000
DTEND:20230310T104500
LOCATION:Virtual
DESCRIPTION:
SUMMARY:RING THE BELL 2023 – 7° edición en Argentina
TRANSP:OPAQUE
BEGIN:VALARM
ACTION:DISPLAY
DESCRIPTION:RING THE BELL 2023 &#8211\; 7° edición en Argentina
END:VALARM
END:VEVENT
END:VCALENDAR
