BEGIN:VCALENDAR
PRODID:-//Red Pacto Global Argentina //NONSGML Events //EN
VERSION:2.0
BEGIN:VEVENT
DTSTAMP:20230824T013239Z
STATUS:CONFIRMED
UID:14833
DTSTART:20230317T113000
DTEND:20230317T123000
LOCATION:Virtual
DESCRIPTION:
SUMMARY:Lanzamiento Acelerador de Ambición Climática
TRANSP:OPAQUE
BEGIN:VALARM
ACTION:DISPLAY
DESCRIPTION:Lanzamiento Acelerador de Ambición Climática
END:VALARM
END:VEVENT
END:VCALENDAR
