BEGIN:VCALENDAR
PRODID:-//Red Pacto Global Argentina //NONSGML Events //EN
VERSION:2.0
BEGIN:VEVENT
DTSTAMP:20230824T013408Z
STATUS:CONFIRMED
UID:14881
DTSTART:20230316T100000
DTEND:20230316T110000
LOCATION:Virtual
DESCRIPTION:En esta sesión informativa brindaremos detalles sobre la nueva política de Comunicación de Progreso, que entró en vigencia en 2023.  <br />
Abordaremos los principales cambios en la política CoP, últimas modificaciones en el cuestionario, recursos elaborados desde Pacto Global para acompañar a las empresas y presentaremos las próximas actividades formativas sobre CoP.
SUMMARY:Webinario local: Nueva Política de Comunicación de Progreso
TRANSP:OPAQUE
BEGIN:VALARM
ACTION:DISPLAY
DESCRIPTION:Webinario local: Nueva Política de Comunicación de Progreso
END:VALARM
END:VEVENT
END:VCALENDAR
