BEGIN:VCALENDAR
PRODID:-//Red Pacto Global Argentina //NONSGML Events //EN
VERSION:2.0
BEGIN:VEVENT
DTSTAMP:20230824T012843Z
STATUS:CONFIRMED
UID:14944
DTSTART:20230321T083000
DTEND:20230321T133000
LOCATION:Presencial
DESCRIPTION:Capacitación en Prevención de la Corrupción<br />
Una oportunidad única para adquirir herramientas sobre transparencia e integridad para tu empresa y ganar competitividad.
SUMMARY:De Empresas Para Empresas (DEPE)
TRANSP:OPAQUE
BEGIN:VALARM
ACTION:DISPLAY
DESCRIPTION:De Empresas Para Empresas (DEPE)
END:VALARM
END:VEVENT
END:VCALENDAR
