BEGIN:VCALENDAR
PRODID:-//Red Pacto Global Argentina //NONSGML Events //EN
VERSION:2.0
BEGIN:VEVENT
DTSTAMP:20230824T011301Z
STATUS:CONFIRMED
UID:14948
DTSTART:20230323T100000
DTEND:20230323T110000
LOCATION:Virtual
DESCRIPTION:En este taller la empresa AVINEA participante del Programa de Adopción Temprana nos compartirá las lecciones aprendidas durante el proceso de respuesta a la CoP. <br />
Nos relatarán su vivencia, qué dificultades se les presentaron, cómo pensaron las soluciones y cómo pudieron implementarlas.<br />

SUMMARY:Webinario local: Recomendaciones prácticas para Pymes
TRANSP:OPAQUE
BEGIN:VALARM
ACTION:DISPLAY
DESCRIPTION:Webinario local: Recomendaciones prácticas para Pymes
END:VALARM
END:VEVENT
END:VCALENDAR
