BEGIN:VCALENDAR
PRODID:-//Red Pacto Global Argentina //NONSGML Events //EN
VERSION:2.0
BEGIN:VEVENT
DTSTAMP:20230824T011258Z
STATUS:CONFIRMED
UID:14961
DTSTART:20230323T110000
DTEND:20230323T120000
LOCATION:Virtual
DESCRIPTION:Sumate a conocer el equipo y nuestra agenda de trabajo 2023. <br />
Descubrí todo lo que podemos hacer juntos por la sostenibilidad este año. <br />

SUMMARY:1° Webinario CONOCIENDO PACTO
TRANSP:OPAQUE
BEGIN:VALARM
ACTION:DISPLAY
DESCRIPTION:1° Webinario CONOCIENDO PACTO
END:VALARM
END:VEVENT
END:VCALENDAR
