BEGIN:VCALENDAR
PRODID:-//Red Pacto Global Argentina //NONSGML Events //EN
VERSION:2.0
BEGIN:VEVENT
DTSTAMP:20230824T011253Z
STATUS:CONFIRMED
UID:15001
DTSTART:20230413T100000
DTEND:20230413T110000
LOCATION:Virtual
DESCRIPTION:Sumate a la conversación entre Grupo Sancor Seguros y Grupo San Cristobal donde van a comentar como pudieron alinearse a la nueva CoP y reportar mediante su nuevo formato.
SUMMARY:CoP: Conversatorio con empresas que participaron en el programa de adopción temprana
TRANSP:OPAQUE
BEGIN:VALARM
ACTION:DISPLAY
DESCRIPTION:CoP: Conversatorio con empresas que participaron en el programa de adopción temprana
END:VALARM
END:VEVENT
END:VCALENDAR
