BEGIN:VCALENDAR
PRODID:-//Red Pacto Global Argentina //NONSGML Events //EN
VERSION:2.0
BEGIN:VEVENT
DTSTAMP:20230824T013325Z
STATUS:CONFIRMED
UID:15005
DTSTART:20230330T100000
DTEND:20230330T110000
LOCATION:Virtual
DESCRIPTION:
SUMMARY:Sesión de Información sobre Acelerador Climático
TRANSP:OPAQUE
BEGIN:VALARM
ACTION:DISPLAY
DESCRIPTION:Sesión de Información sobre Acelerador Climático
END:VALARM
END:VEVENT
END:VCALENDAR
