BEGIN:VCALENDAR
PRODID:-//Red Pacto Global Argentina //NONSGML Events //EN
VERSION:2.0
BEGIN:VEVENT
DTSTAMP:20230824T012420Z
STATUS:CONFIRMED
UID:15023
DTSTART:20230412T113000
DTEND:20230412T123000
LOCATION:Virtual
DESCRIPTION:
SUMMARY:Sesión de Bienvenida Grupo de Aprendizaje entre Pares PyMEs
TRANSP:OPAQUE
BEGIN:VALARM
ACTION:DISPLAY
DESCRIPTION:Sesión de Bienvenida Grupo de Aprendizaje entre Pares PyMEs
END:VALARM
END:VEVENT
END:VCALENDAR
