BEGIN:VCALENDAR
PRODID:-//Red Pacto Global Argentina //NONSGML Events //EN
VERSION:2.0
BEGIN:VEVENT
DTSTAMP:20230824T012422Z
STATUS:CONFIRMED
UID:15025
DTSTART:20230425T113000
DTEND:20230425T130000
LOCATION:Virtual
DESCRIPTION:
SUMMARY:Caso de negocio Grupo de Aprendizaje entre Pares PyMEs
TRANSP:OPAQUE
BEGIN:VALARM
ACTION:DISPLAY
DESCRIPTION:Caso de negocio Grupo de Aprendizaje entre Pares PyMEs
END:VALARM
END:VEVENT
END:VCALENDAR
