BEGIN:VCALENDAR
PRODID:-//Red Pacto Global Argentina //NONSGML Events //EN
VERSION:2.0
BEGIN:VEVENT
DTSTAMP:20230824T013115Z
STATUS:CONFIRMED
UID:15032
DTSTART:20230727T113000
DTEND:20230727T130000
LOCATION:Virtual
DESCRIPTION:
SUMMARY:Sesión sobre Medio Ambiente Grupo de Aprendizaje entre Pares PyMEs
TRANSP:OPAQUE
BEGIN:VALARM
ACTION:DISPLAY
DESCRIPTION:Sesión sobre Medio Ambiente Grupo de Aprendizaje entre Pares PyMEs
END:VALARM
END:VEVENT
END:VCALENDAR
