BEGIN:VCALENDAR
PRODID:-//Red Pacto Global Argentina //NONSGML Events //EN
VERSION:2.0
BEGIN:VEVENT
DTSTAMP:20230824T012821Z
STATUS:CONFIRMED
UID:15035
DTSTART:20230824T113000
DTEND:20230824T130000
LOCATION:Virtual
DESCRIPTION:
SUMMARY:Sesión sobre Anticorrupción
TRANSP:OPAQUE
BEGIN:VALARM
ACTION:DISPLAY
DESCRIPTION:Sesión sobre Anticorrupción
END:VALARM
END:VEVENT
END:VCALENDAR
