BEGIN:VCALENDAR
PRODID:-//Red Pacto Global Argentina //NONSGML Events //EN
VERSION:2.0
BEGIN:VEVENT
DTSTAMP:20230824T013024Z
STATUS:CONFIRMED
UID:15037
DTSTART:20230928T113000
DTEND:20230928T130000
LOCATION:Virtual
DESCRIPTION:
SUMMARY:Sesión sobre Plan de Acción y Cierre Grupo de Aprendizaje entre Pares PyMEs
TRANSP:OPAQUE
BEGIN:VALARM
ACTION:DISPLAY
DESCRIPTION:Sesión sobre Plan de Acción y Cierre Grupo de Aprendizaje entre Pares PyMEs
END:VALARM
END:VEVENT
END:VCALENDAR
