BEGIN:VCALENDAR
PRODID:-//Red Pacto Global Argentina //NONSGML Events //EN
VERSION:2.0
BEGIN:VEVENT
DTSTAMP:20230824T013135Z
STATUS:CONFIRMED
UID:15039
DTSTART:20230516T113000
DTEND:20230516T130000
LOCATION:Virtual
DESCRIPTION:
SUMMARY:Acelerador Climático: Sesión Facilitada Contabilidad de GEI: Informe y Discusión
TRANSP:OPAQUE
BEGIN:VALARM
ACTION:DISPLAY
DESCRIPTION:Acelerador Climático: Sesión Facilitada Contabilidad de GEI: Informe y Discusión
END:VALARM
END:VEVENT
END:VCALENDAR
