BEGIN:VCALENDAR
PRODID:-//Red Pacto Global Argentina //NONSGML Events //EN
VERSION:2.0
BEGIN:VEVENT
DTSTAMP:20230824T013239Z
STATUS:CONFIRMED
UID:15041
DTSTART:20230613T113000
DTEND:20230613T123000
LOCATION:Virtual
DESCRIPTION:
SUMMARY:Acelerador Climático: Sesión Facilitada SBTi: Informe y Discusión
TRANSP:OPAQUE
BEGIN:VALARM
ACTION:DISPLAY
DESCRIPTION:Acelerador Climático: Sesión Facilitada SBTi: Informe y Discusión
END:VALARM
END:VEVENT
END:VCALENDAR
