BEGIN:VCALENDAR
PRODID:-//Red Pacto Global Argentina //NONSGML Events //EN
VERSION:2.0
BEGIN:VEVENT
DTSTAMP:20230824T013418Z
STATUS:CONFIRMED
UID:15043
DTSTART:20230627T113000
DTEND:20230627T123000
LOCATION:Virtual
DESCRIPTION:
SUMMARY:Acelerador Climático: Sesión Facilitada Ejercicios Prácticos GEI
TRANSP:OPAQUE
BEGIN:VALARM
ACTION:DISPLAY
DESCRIPTION:Acelerador Climático: Sesión Facilitada Ejercicios Prácticos GEI
END:VALARM
END:VEVENT
END:VCALENDAR
