BEGIN:VCALENDAR
PRODID:-//Red Pacto Global Argentina //NONSGML Events //EN
VERSION:2.0
BEGIN:VEVENT
DTSTAMP:20230824T013040Z
STATUS:CONFIRMED
UID:15047
DTSTART:20231003T113000
DTEND:20231003T123000
LOCATION:Virtual
DESCRIPTION:
SUMMARY:Acelerador Climático: Sesión Facilitada Emisiones de Alcance 3: Actividades de Gestión, Medición y Reducción
TRANSP:OPAQUE
BEGIN:VALARM
ACTION:DISPLAY
DESCRIPTION:Acelerador Climático: Sesión Facilitada Emisiones de Alcance 3: Actividades de Gestión\, Medición y Reducción
END:VALARM
END:VEVENT
END:VCALENDAR
