BEGIN:VCALENDAR
PRODID:-//Red Pacto Global Argentina //NONSGML Events //EN
VERSION:2.0
BEGIN:VEVENT
DTSTAMP:20230824T013426Z
STATUS:CONFIRMED
UID:15055
DTSTART:20230411T113000
DTEND:20230411T123000
LOCATION:Virtual
DESCRIPTION:
SUMMARY:CoP: Navegación en la nueva plataforma de la CoP
TRANSP:OPAQUE
BEGIN:VALARM
ACTION:DISPLAY
DESCRIPTION:CoP: Navegación en la nueva plataforma de la CoP
END:VALARM
END:VEVENT
END:VCALENDAR
