BEGIN:VCALENDAR
PRODID:-//Red Pacto Global Argentina //NONSGML Events //EN
VERSION:2.0
BEGIN:VEVENT
DTSTAMP:20230824T011307Z
STATUS:CONFIRMED
UID:15058
DTSTART:20230420T100000
DTEND:20230420T110000
LOCATION:Virtual
DESCRIPTION:Sumate a conocer el equipo y nuestra agenda de trabajo 2023.<br />
Descubrí todo lo que podemos hacer juntos por la sostenibilidad este año.
SUMMARY:Webinar: Conociendo Pacto
TRANSP:OPAQUE
BEGIN:VALARM
ACTION:DISPLAY
DESCRIPTION:Webinar: Conociendo Pacto
END:VALARM
END:VEVENT
END:VCALENDAR
