BEGIN:VCALENDAR
PRODID:-//Red Pacto Global Argentina //NONSGML Events //EN
VERSION:2.0
BEGIN:VEVENT
DTSTAMP:20230824T013222Z
STATUS:CONFIRMED
UID:15082
DTSTART:20230426T100000
DTEND:20230426T111500
LOCATION:Virtual
DESCRIPTION:
SUMMARY:CoP: SECCIÓN GOBERNANZA
TRANSP:OPAQUE
BEGIN:VALARM
ACTION:DISPLAY
DESCRIPTION:CoP: SECCIÓN GOBERNANZA
END:VALARM
END:VEVENT
END:VCALENDAR
