BEGIN:VCALENDAR
PRODID:-//Red Pacto Global Argentina //NONSGML Events //EN
VERSION:2.0
BEGIN:VEVENT
DTSTAMP:20230824T013211Z
STATUS:CONFIRMED
UID:15086
DTSTART:20230519T110000
DTEND:20230519T120000
LOCATION:Virtual
DESCRIPTION:Desde la Red Argentina del Pacto Global entendemos, que la agenda de derechos humanos se reconfigura constantemente y es nuestro deber sumar voces para compartir miradas a través de espacios abierto que sirva de encuentro para distintos actores en la toma de conciencia y medidas para prevenir impactos reales Y/o potenciales en materia de derechos humanos  <br />
<br />
Disertantes:<br />
Bárbara Perrot  - Especialista en empleo y desarrollo productivo OIT, Argentina<br />
Jorge C Figueroa - Director de public affairs & sostenibilidad Randstad Argentina & Uruguay<br />
<br />
Modera: Nicolás Liarte-Vejrup<br />

SUMMARY:Ciclo Webinarios Empresa y DDHH
TRANSP:OPAQUE
BEGIN:VALARM
ACTION:DISPLAY
DESCRIPTION:Ciclo Webinarios Empresa y DDHH
END:VALARM
END:VEVENT
END:VCALENDAR
