BEGIN:VCALENDAR
PRODID:-//Red Pacto Global Argentina //NONSGML Events //EN
VERSION:2.0
BEGIN:VEVENT
DTSTAMP:20230824T012823Z
STATUS:CONFIRMED
UID:15092
DTSTART:20230502T090000
DTEND:20230502T110000
LOCATION:Virtual
DESCRIPTION:
SUMMARY:Programa de Formación Ejecutiva Economía Circular y Objetivos de Desarrollo Sostenible
TRANSP:OPAQUE
BEGIN:VALARM
ACTION:DISPLAY
DESCRIPTION:Programa de Formación Ejecutiva Economía Circular y Objetivos de Desarrollo Sostenible
END:VALARM
END:VEVENT
END:VCALENDAR
