BEGIN:VCALENDAR
PRODID:-//Red Pacto Global Argentina //NONSGML Events //EN
VERSION:2.0
BEGIN:VEVENT
DTSTAMP:20230824T013323Z
STATUS:CONFIRMED
UID:15100
DTSTART:20230412T100000
DTEND:20230412T110000
LOCATION:Virtual
DESCRIPTION:Actividad exclusiva para la Mesa Directiva
SUMMARY:Capacitación Plan de Comm Aniversario
TRANSP:OPAQUE
BEGIN:VALARM
ACTION:DISPLAY
DESCRIPTION:Capacitación Plan de Comm Aniversario
END:VALARM
END:VEVENT
END:VCALENDAR
