BEGIN:VCALENDAR
PRODID:-//Red Pacto Global Argentina //NONSGML Events //EN
VERSION:2.0
BEGIN:VEVENT
DTSTAMP:20230824T013414Z
STATUS:CONFIRMED
UID:15162
DTSTART:20230503T093000
DTEND:20230503T103000
LOCATION:Virtual
DESCRIPTION:
SUMMARY:CoP: SECCIÓN DERECHOS HUMANOS
TRANSP:OPAQUE
BEGIN:VALARM
ACTION:DISPLAY
DESCRIPTION:CoP: SECCIÓN DERECHOS HUMANOS
END:VALARM
END:VEVENT
END:VCALENDAR
